BEGIN:VCALENDAR
VERSION:2.0
PRODID:-//Thom Knoles | Vedic Meditation - ECPv6.15.18//NONSGML v1.0//EN
CALSCALE:GREGORIAN
METHOD:PUBLISH
X-ORIGINAL-URL:https://thomknoles.com
X-WR-CALDESC:Events for Thom Knoles | Vedic Meditation
REFRESH-INTERVAL;VALUE=DURATION:PT1H
X-Robots-Tag:noindex
X-PUBLISHED-TTL:PT1H
BEGIN:VTIMEZONE
TZID:America/Phoenix
BEGIN:STANDARD
TZOFFSETFROM:-0700
TZOFFSETTO:-0700
TZNAME:MST
DTSTART:20220101T000000
END:STANDARD
END:VTIMEZONE
BEGIN:VEVENT
DTSTART;TZID=America/Phoenix:20231216T150000
DTEND;TZID=America/Phoenix:20231216T170000
DTSTAMP:20260419T085328
CREATED:20230221T185905Z
LAST-MODIFIED:20240412T172124Z
UID:10000021-1702738800-1702746000@thomknoles.com
SUMMARY:Satsang: Ask Thom Anything (Online)
DESCRIPTION:Ask Thom your questions on your meditation practice and the Vedic worldview. \nSchedule of Events (Flagstaff Time):\n2:45 pm – Log in to Zoom\n3:00 pm – Group Meditation with Thom\n3:30 pm – Q&A\n5:00 pm – Close \nThis event is open to Intermediate and All-Access Satsang members.
URL:https://thomknoles.com/event/satsang-2023-12-16/
CATEGORIES:For Vedic Meditators,Group Meditation,Satsang
ATTACH;FMTTYPE=image/jpeg:https://thomknoles.com/wp-content/uploads/2023/02/28-optimized.jpg
LOCATION:https://thomknoles.com/event/satsang-2023-12-16/
END:VEVENT
BEGIN:VEVENT
DTSTART;TZID=America/Phoenix:20231222T150000
DTEND;TZID=America/Phoenix:20231222T170000
DTSTAMP:20260419T085328
CREATED:20230810T150455Z
LAST-MODIFIED:20240412T173540Z
UID:10000062-1703257200-1703264400@thomknoles.com
SUMMARY:Initiators Quarterly Meeting with Thom (Online)
DESCRIPTION:Join Thom and our worldwide community of teachers to receive support and guidance on your personal experiences and experiences teaching in the field. Open to all qualified Vedic Meditation Initiators. \nPlease visit the Initiator Space inside Satsang to register for the event.
URL:https://thomknoles.com/event/initiator-2023-12-22/
CATEGORIES:For Vedic Meditators,Group Meditation,Satsang
ATTACH;FMTTYPE=image/png:https://thomknoles.com/wp-content/uploads/2023/02/30.png
LOCATION:https://thomknoles.com/event/initiator-2023-12-22/
END:VEVENT
END:VCALENDAR