BEGIN:VCALENDAR
VERSION:2.0
PRODID:-//Thom Knoles | Vedic Meditation - ECPv6.15.18//NONSGML v1.0//EN
CALSCALE:GREGORIAN
METHOD:PUBLISH
X-WR-CALNAME:Thom Knoles | Vedic Meditation
X-ORIGINAL-URL:https://thomknoles.com
X-WR-CALDESC:Events for Thom Knoles | Vedic Meditation
REFRESH-INTERVAL;VALUE=DURATION:PT1H
X-Robots-Tag:noindex
X-PUBLISHED-TTL:PT1H
BEGIN:VTIMEZONE
TZID:Australia/Sydney
BEGIN:STANDARD
TZOFFSETFROM:+1100
TZOFFSETTO:+1000
TZNAME:AEST
DTSTART:20220402T160000
END:STANDARD
BEGIN:DAYLIGHT
TZOFFSETFROM:+1000
TZOFFSETTO:+1100
TZNAME:AEDT
DTSTART:20221001T160000
END:DAYLIGHT
BEGIN:STANDARD
TZOFFSETFROM:+1100
TZOFFSETTO:+1000
TZNAME:AEST
DTSTART:20230401T160000
END:STANDARD
BEGIN:DAYLIGHT
TZOFFSETFROM:+1000
TZOFFSETTO:+1100
TZNAME:AEDT
DTSTART:20230930T160000
END:DAYLIGHT
BEGIN:STANDARD
TZOFFSETFROM:+1100
TZOFFSETTO:+1000
TZNAME:AEST
DTSTART:20240406T160000
END:STANDARD
BEGIN:DAYLIGHT
TZOFFSETFROM:+1000
TZOFFSETTO:+1100
TZNAME:AEDT
DTSTART:20241005T160000
END:DAYLIGHT
END:VTIMEZONE
BEGIN:VEVENT
DTSTART;TZID=Australia/Sydney:20230702T180000
DTEND;TZID=Australia/Sydney:20230702T200000
DTSTAMP:20260421T003111
CREATED:20230412T220352Z
LAST-MODIFIED:20230627T234927Z
UID:10000040-1688320800-1688328000@thomknoles.com
SUMMARY:Guru Purnima Community Celebration (Sydney)
DESCRIPTION:Celebrate Guru Purnima\, an auspicious full moon day and a pinnacle of the Vedic calendar. \n“Guru” means someone who teaches you something or something that teaches you. \n“Purnima” means full moon. \n“A guru is whatever it is that removes darkness from you\, whatever it is that illuminates you. That’s going to include all of the difficult experiences you’ve had in your life from which you’ve learned\, and all of the great experiences that you have in your life from which you learn. ⁣\n⁣\nAll of this is “guru.” Anyone or anything that teaches you is guru. So guru means that which sheds light or brings light to darkness\, that which gives you knowledge and experience.” – Thom Knoles\n⁣\nThis evening\, we’ll begin with a ceremony of gratitude\, followed by sweets and a moonlit stroll. \nSun\, 2 July\n6:00 pm – 8:00 pm\nCrown Plaza Sydney Coogee Beach\nOceanic Ballroom
URL:https://thomknoles.com/event/guru-purnima-2023-07-2/
LOCATION:Crown Plaza Coogee Beach\, 242 Arden St\, Coogee\, NSW\, 2034\, Australia
CATEGORIES:For Vedic Meditators
ATTACH;FMTTYPE=image/jpeg:https://thomknoles.com/wp-content/uploads/2022/10/eberhard-grossgasteiger-u4RMq06Qg3M-unsplash-scaled.jpg
END:VEVENT
END:VCALENDAR