BEGIN:VCALENDAR
VERSION:2.0
PRODID:-//Thom Knoles | Vedic Meditation - ECPv6.15.18//NONSGML v1.0//EN
CALSCALE:GREGORIAN
METHOD:PUBLISH
X-WR-CALNAME:Thom Knoles | Vedic Meditation
X-ORIGINAL-URL:https://thomknoles.com
X-WR-CALDESC:Events for Thom Knoles | Vedic Meditation
REFRESH-INTERVAL;VALUE=DURATION:PT1H
X-Robots-Tag:noindex
X-PUBLISHED-TTL:PT1H
BEGIN:VTIMEZONE
TZID:America/New_York
BEGIN:DAYLIGHT
TZOFFSETFROM:-0500
TZOFFSETTO:-0400
TZNAME:EDT
DTSTART:20220313T070000
END:DAYLIGHT
BEGIN:STANDARD
TZOFFSETFROM:-0400
TZOFFSETTO:-0500
TZNAME:EST
DTSTART:20221106T060000
END:STANDARD
BEGIN:DAYLIGHT
TZOFFSETFROM:-0500
TZOFFSETTO:-0400
TZNAME:EDT
DTSTART:20230312T070000
END:DAYLIGHT
BEGIN:STANDARD
TZOFFSETFROM:-0400
TZOFFSETTO:-0500
TZNAME:EST
DTSTART:20231105T060000
END:STANDARD
BEGIN:DAYLIGHT
TZOFFSETFROM:-0500
TZOFFSETTO:-0400
TZNAME:EDT
DTSTART:20240310T070000
END:DAYLIGHT
BEGIN:STANDARD
TZOFFSETFROM:-0400
TZOFFSETTO:-0500
TZNAME:EST
DTSTART:20241103T060000
END:STANDARD
END:VTIMEZONE
BEGIN:VEVENT
DTSTART;TZID=America/New_York:20231014T180000
DTEND;TZID=America/New_York:20231014T200000
DTSTAMP:20260423T071143
CREATED:20230221T192558Z
LAST-MODIFIED:20231009T164734Z
UID:10000027-1697306400-1697313600@thomknoles.com
SUMMARY:Satsang Masterclass: Whose Nature is Nature? (NYC + Online)
DESCRIPTION:We often have a view of Humans vs. Nature. But whose nature is our human nature? And how do we live harmoniously with all that’s around us? Thom will share the real definition of humanity and how we can make our greatest contribution to Nature at large. \nSchedule of Events (New York Time):\n5:45 pm – Doors open\n5:00 pm – Group Meditation with Thom\n6:25 pm – Lecture\n7:00 pm – Q&A\n8:00 pm – Close \nThis event is open to All-Access Satsang members.
URL:https://thomknoles.com/event/satsang-2023-10-14/
LOCATION:NoMad\, NoMad New York\, New York\, United States
CATEGORIES:For Vedic Meditators,Group Meditation,Satsang
ATTACH;FMTTYPE=image/png:https://thomknoles.com/wp-content/uploads/2023/02/44.png
END:VEVENT
END:VCALENDAR