BEGIN:VCALENDAR
VERSION:2.0
PRODID:-//Thom Knoles | Vedic Meditation - ECPv6.15.18//NONSGML v1.0//EN
CALSCALE:GREGORIAN
METHOD:PUBLISH
X-ORIGINAL-URL:https://thomknoles.com
X-WR-CALDESC:Events for Thom Knoles | Vedic Meditation
REFRESH-INTERVAL;VALUE=DURATION:PT1H
X-Robots-Tag:noindex
X-PUBLISHED-TTL:PT1H
BEGIN:VTIMEZONE
TZID:Australia/Sydney
BEGIN:STANDARD
TZOFFSETFROM:+1100
TZOFFSETTO:+1000
TZNAME:AEST
DTSTART:20220402T160000
END:STANDARD
BEGIN:DAYLIGHT
TZOFFSETFROM:+1000
TZOFFSETTO:+1100
TZNAME:AEDT
DTSTART:20221001T160000
END:DAYLIGHT
BEGIN:STANDARD
TZOFFSETFROM:+1100
TZOFFSETTO:+1000
TZNAME:AEST
DTSTART:20230401T160000
END:STANDARD
BEGIN:DAYLIGHT
TZOFFSETFROM:+1000
TZOFFSETTO:+1100
TZNAME:AEDT
DTSTART:20230930T160000
END:DAYLIGHT
BEGIN:STANDARD
TZOFFSETFROM:+1100
TZOFFSETTO:+1000
TZNAME:AEST
DTSTART:20240406T160000
END:STANDARD
BEGIN:DAYLIGHT
TZOFFSETFROM:+1000
TZOFFSETTO:+1100
TZNAME:AEDT
DTSTART:20241005T160000
END:DAYLIGHT
BEGIN:STANDARD
TZOFFSETFROM:+1100
TZOFFSETTO:+1000
TZNAME:AEST
DTSTART:20250405T160000
END:STANDARD
BEGIN:DAYLIGHT
TZOFFSETFROM:+1000
TZOFFSETTO:+1100
TZNAME:AEDT
DTSTART:20251004T160000
END:DAYLIGHT
BEGIN:STANDARD
TZOFFSETFROM:+1100
TZOFFSETTO:+1000
TZNAME:AEST
DTSTART:20260404T160000
END:STANDARD
BEGIN:DAYLIGHT
TZOFFSETFROM:+1000
TZOFFSETTO:+1100
TZNAME:AEDT
DTSTART:20261003T160000
END:DAYLIGHT
END:VTIMEZONE
BEGIN:VTIMEZONE
TZID:America/Phoenix
BEGIN:STANDARD
TZOFFSETFROM:-0700
TZOFFSETTO:-0700
TZNAME:MST
DTSTART:20230101T000000
END:STANDARD
END:VTIMEZONE
BEGIN:VEVENT
DTSTART;TZID=Australia/Sydney:20250614T100000
DTEND;TZID=Australia/Sydney:20250614T110000
DTSTAMP:20260421T043658
CREATED:20241115T143218Z
LAST-MODIFIED:20241115T143218Z
UID:10000146-1749895200-1749898800@thomknoles.com
SUMMARY:Introductory Talk on Vedic Meditation (Sydney)
DESCRIPTION:Meet Thom in person\, and ask your questions in a free introductory session. \nThe Introduction is a free one-hour lecture and question/answer session designed for anyone interested in learning more about Vedic Meditation. \nTopics include: \nMeeting Thom\nThe Origins of Vedic Meditation\nHow the Technique of Vedic Meditation is Practiced\nBenefits of Vedic Meditation\nQ&A with Thom \nThis talk is required before taking the full four-day course in Vedic Meditation. \nSaturday\, June 14\n10:00 am – 11:00 am \nLocation: Bondi Pavilion (Seagull Room)
URL:https://thomknoles.com/event/intintroductory-talk-on-vedic-meditation-2025-06-14/
LOCATION:Bondi Pavilion Community Cultural Centre\, Bondi Beach NSW 2026\, Sydney\, Australia
CATEGORIES:Introductory Talks
ATTACH;FMTTYPE=image/jpeg:https://thomknoles.com/wp-content/uploads/2024/08/mediums-spontaneous-right-action-meditation-img.jpg
END:VEVENT
BEGIN:VEVENT
DTSTART;TZID=Australia/Sydney:20250608T150000
DTEND;TZID=Australia/Sydney:20250608T160000
DTSTAMP:20260421T043658
CREATED:20241115T142226Z
LAST-MODIFIED:20250408T164721Z
UID:10000143-1749394800-1749398400@thomknoles.com
SUMMARY:Introductory Talk on Vedic Meditation (Sydney)
DESCRIPTION:Meet Thom in person\, and ask your questions in a free introductory session. \nThe Introduction is a free one-hour lecture and question/answer session designed for anyone interested in learning more about Vedic Meditation. \nTopics include: \nMeeting Thom\nThe Origins of Vedic Meditation\nHow the Technique of Vedic Meditation is Practiced\nBenefits of Vedic Meditation\nQ&A with Thom \nThis talk is required before taking the full four-day course in Vedic Meditation. \nSunday\, June 8\n3:00 pm – 4:00 pm \nLocation: Bondi Pavilion (Seagull Room)
URL:https://thomknoles.com/event/introductory-talk-on-vedic-meditation-2025-06-08/
LOCATION:Bondi Pavilion Community Cultural Centre\, Bondi Beach NSW 2026\, Sydney\, Australia
CATEGORIES:Introductory Talks
ATTACH;FMTTYPE=image/png:https://thomknoles.com/wp-content/uploads/2024/11/Intro-talk-4.png
END:VEVENT
BEGIN:VEVENT
DTSTART;TZID=Australia/Sydney:20250606T180000
DTEND;TZID=Australia/Sydney:20250606T200000
DTSTAMP:20260421T043658
CREATED:20241115T162515Z
LAST-MODIFIED:20250521T142533Z
UID:10000151-1749232800-1749240000@thomknoles.com
SUMMARY:Sydney Group Meditation & Knowledge Meeting with Thom Knoles
DESCRIPTION:Join Thom for a Group Meditation \nSchedule of Events (AEST)\n5:40 pm – Doors Open\n6:00 pm – Group Meditation with Thom\n6:30 pm – Q&A\n8:00 pm – Close \nThis event is open and free to all graduates of a qualified Vedic Meditation Course. \nLocation: Bondi Pavilion (High Tide Room)
URL:https://thomknoles.com/event/group-meditation-2025-06-06/
LOCATION:Bondi Pavilion Community Cultural Centre\, Bondi Beach NSW 2026\, Sydney\, Australia
CATEGORIES:For Vedic Meditators,Group Meditation
ATTACH;FMTTYPE=image/png:https://thomknoles.com/wp-content/uploads/2023/02/45.png
END:VEVENT
BEGIN:VEVENT
DTSTART;TZID=Australia/Sydney:20240622T100000
DTEND;TZID=Australia/Sydney:20240622T170000
DTSTAMP:20260421T043658
CREATED:20230411T205600Z
LAST-MODIFIED:20250618T163052Z
UID:10000038-1719050400-1719075600@thomknoles.com
SUMMARY:One Day Retreat: The Wisdom of Sustainable Pleasure
DESCRIPTION:THE WISDOM OF SUSTAINABLE PLEASURE – ONE DAY RETREAT\n…and how to let go of your hidden addiction to suffering. \nAre you ready to break free from the shackles of suffering addiction and embrace a life of sustainable pleasure? \nIn this transformative one-day course\, we’ll unravel the profound Vedic wisdom that empowers you to cultivate evolutionary dependencies for a life filled with joy and fulfillment. \nSaturday\, 22 June\n10:00 am – 5:00 pm\nBondi Pavilion\n(Seagull Room) \nCourse Fee: AUD 495
URL:https://thomknoles.com/event/one-day-retreat-sydney/
LOCATION:Bondi Pavilion Community Cultural Centre\, Bondi Beach NSW 2026\, Sydney\, Australia
CATEGORIES:For Vedic Meditators,Retreats
ATTACH;FMTTYPE=image/png:https://thomknoles.com/wp-content/uploads/2023/02/46.png
END:VEVENT
BEGIN:VEVENT
DTSTART;TZID=Australia/Sydney:20240616T100000
DTEND;TZID=Australia/Sydney:20240616T120000
DTSTAMP:20260421T043658
CREATED:20240214T181118Z
LAST-MODIFIED:20240214T181118Z
UID:10000095-1718532000-1718539200@thomknoles.com
SUMMARY:Satsang: Ask Thom Anything (Sydney)
DESCRIPTION:Ask Thom your questions on your meditation practice and the Vedic worldview. \nSchedule of Events (AEST):\n9:45 am – Log in to Zoom\n10:00 am – Group Meditation with Thom\n10:30 am – Q&A\n12:00 pm – Close \nThis event is open to Intermediate and All-Access Satsang members.
URL:https://thomknoles.com/event/satsang-ask-thom-anything-sydney-06-16-24/
LOCATION:Bondi Pavilion Community Cultural Centre\, Bondi Beach NSW 2026\, Sydney\, Australia
CATEGORIES:For Vedic Meditators,Group Meditation,Satsang
ATTACH;FMTTYPE=image/png:https://thomknoles.com/wp-content/uploads/2023/02/45.png
END:VEVENT
BEGIN:VEVENT
DTSTART;TZID=Australia/Sydney:20240615T160000
DTEND;TZID=Australia/Sydney:20240615T180000
DTSTAMP:20260421T043658
CREATED:20231114T193255Z
LAST-MODIFIED:20231114T194031Z
UID:10000080-1718467200-1718474400@thomknoles.com
SUMMARY:Initiators Quarterly Meeting with Thom (Sydney + Online)
DESCRIPTION:Join Thom and our worldwide community of teachers to receive support and guidance on your personal experiences and experiences teaching in the field. Open to all qualified Vedic Meditation Initiators. \nPlease visit the Initiator Space inside Satsang to register for the event.
URL:https://thomknoles.com/event/initiator-2024-06-15/
LOCATION:Bondi Pavilion Community Cultural Centre\, Bondi Beach NSW 2026\, Sydney\, Australia
CATEGORIES:For Vedic Meditators,Group Meditation,Initiators,Satsang
ATTACH;FMTTYPE=image/png:https://thomknoles.com/wp-content/uploads/2023/02/17.png
END:VEVENT
BEGIN:VEVENT
DTSTART;TZID=Australia/Sydney:20240615T100000
DTEND;TZID=Australia/Sydney:20240615T110000
DTSTAMP:20260421T043658
CREATED:20230404T185753Z
LAST-MODIFIED:20240515T155003Z
UID:10000033-1718445600-1718449200@thomknoles.com
SUMMARY:Introductory Talk on Vedic Meditation (Sydney)
DESCRIPTION:Meet Thom in person\, and ask your questions in a free introductory session. \nThe Introduction is a free one-hour lecture and question/answer session designed for anyone interested in learning more about Vedic Meditation. \nTopics include: \nMeeting Thom\nThe Origins of Vedic Meditation\nHow the Technique of Vedic Meditation is Practiced\nBenefits of Vedic Meditation\nQ&A with Thom \nThis talk is required before taking the full four-day course in Vedic Meditation. \nSaturday\, 15 June\n10:00 am – 11:00 am \nLocation: Bondi Pavilion (Seagull Room)
URL:https://thomknoles.com/event/introductory-talk-on-vedic-meditation-2024-06-15/
LOCATION:Bondi Pavilion Community Cultural Centre\, Bondi Beach NSW 2026\, Sydney\, Australia
CATEGORIES:Introductory Talks
ATTACH;FMTTYPE=image/png:https://thomknoles.com/wp-content/uploads/2023/02/32.png
END:VEVENT
BEGIN:VEVENT
DTSTART;TZID=Australia/Sydney:20240609T170000
DTEND;TZID=Australia/Sydney:20240609T190000
DTSTAMP:20260421T043658
CREATED:20230221T175858Z
LAST-MODIFIED:20240524T182339Z
UID:10000015-1717952400-1717959600@thomknoles.com
SUMMARY:Group Meditation with Thom Knoles (Sydney)
DESCRIPTION:Join Thom for a Group Meditation \nSchedule of Events (AEST)\n4:30 pm – Doors Open\n5:00 pm – Group Meditation with Thom\n5:30 pm – Q&A\n7:00 pm – Close \nThis event is open and free to all graduates of a qualified Vedic Meditation Course.
URL:https://thomknoles.com/event/group-meditation-2024-06-09/
LOCATION:Bondi Pavilion Community Cultural Centre\, Bondi Beach NSW 2026\, Sydney\, Australia
CATEGORIES:For Vedic Meditators,Group Meditation
ATTACH;FMTTYPE=image/png:https://thomknoles.com/wp-content/uploads/2023/02/45.png
END:VEVENT
BEGIN:VEVENT
DTSTART;TZID=Australia/Sydney:20240609T150000
DTEND;TZID=Australia/Sydney:20240609T160000
DTSTAMP:20260421T043658
CREATED:20230404T183800Z
LAST-MODIFIED:20240515T154850Z
UID:10000030-1717945200-1717948800@thomknoles.com
SUMMARY:Introductory Talk on Vedic Meditation (Sydney)
DESCRIPTION:Meet Thom in person\, and ask your questions in a free introductory session. \nThe Introduction is a free one-hour lecture and question/answer session designed for anyone interested in learning more about Vedic Meditation. \nTopics include: \nThe Origins of Vedic Meditation\nHow the Technique of Vedic Meditation is Practiced\nBenefits of Vedic Meditation\nQ&A with Thom \nThis talk is required before taking the full four-day course in Vedic Meditation. \nSunday\, 9 June\n3:00 pm – 4:00 pm \nLocation: Bondi Pavilion (Seagull Room)
URL:https://thomknoles.com/event/introductory-talk-on-vedic-meditation-2024-06-09/
LOCATION:Bondi Pavilion Community Cultural Centre\, Bondi Beach NSW 2026\, Sydney\, Australia
CATEGORIES:Introductory Talks
ATTACH;FMTTYPE=image/png:https://thomknoles.com/wp-content/uploads/2023/02/28.png
END:VEVENT
BEGIN:VEVENT
DTSTART;TZID=America/Phoenix:20240609T000000
DTEND;TZID=America/Phoenix:20240609T020000
DTSTAMP:20260421T043658
CREATED:20231114T190850Z
LAST-MODIFIED:20240524T161045Z
UID:10000078-1717891200-1717898400@thomknoles.com
SUMMARY:Global Group Meditation with Thom Knoles (Sydney + Online)
DESCRIPTION:Join Thom and meditators worldwide for our Quarterly Global Group Meditation! \nSchedule of Events (Flagstaff Time)\n11:30 pm – Doors Open\n12:00 am – Group Meditation with Thom\n12:30 am – Q&A\n2:00 am – Close \nThis event is open and free to all graduates of a qualified Vedic Meditation Course. Replays are available to all members of Satsang. \nRegistration is essential; a confirmation email with login details will be sent after we receive your registration.
URL:https://thomknoles.com/event/group-meditation-2024-06-09-2/
LOCATION:Bondi Pavilion Community Cultural Centre\, Bondi Beach NSW 2026\, Sydney\, Australia
CATEGORIES:For Vedic Meditators,Group Meditation
ATTACH;FMTTYPE=image/png:https://thomknoles.com/wp-content/uploads/2023/02/45.png
END:VEVENT
BEGIN:VEVENT
DTSTART;TZID=Australia/Sydney:20240607T183000
DTEND;TZID=Australia/Sydney:20240607T200000
DTSTAMP:20260421T043658
CREATED:20230524T040211Z
LAST-MODIFIED:20240515T154938Z
UID:10000044-1717785000-1717790400@thomknoles.com
SUMMARY:Free Community Wisdom Talk
DESCRIPTION:Awaken Your Creative Intelligence: The Solution to All Problems\n\nJoin Thom for a free community wisdom talk. \nFriday\, 7 June\n6:30 pm – 8:00 pm\nBondi Pavilion\n(High Tide Room) \nThis event is free and open to everyone.
URL:https://thomknoles.com/event/wisdom-talk/
LOCATION:Bondi Pavilion Community Cultural Centre\, Bondi Beach NSW 2026\, Sydney\, Australia
CATEGORIES:For Vedic Meditators,Group Meditation,Introductory Talks,Learn to Meditate
ATTACH;FMTTYPE=image/jpeg:https://thomknoles.com/wp-content/uploads/2022/10/20190928_ThomKnoles_Lecture_0307-scaled.jpg
END:VEVENT
BEGIN:VEVENT
DTSTART;TZID=Australia/Sydney:20230618T100000
DTEND;TZID=Australia/Sydney:20230618T120000
DTSTAMP:20260421T043658
CREATED:20230221T182139Z
LAST-MODIFIED:20230418T132336Z
UID:10000017-1687082400-1687089600@thomknoles.com
SUMMARY:Satsang: Ask Thom Anything (Sydney + Online)
DESCRIPTION:Ask Thom your questions on your meditation practice and the Vedic worldview. \nSchedule of Events (AEST):\n9:45 am – Log in to Zoom\n10:00 am – Group Meditation with Thom\n10:30 am – Q&A\n12:00 pm – Close \nThis event is open to Intermediate and Intermediate and All-Access Satsang members.
URL:https://thomknoles.com/event/satsang-2023-06-18/
LOCATION:Bondi Pavilion Community Cultural Centre\, Bondi Beach NSW 2026\, Sydney\, Australia
CATEGORIES:For Vedic Meditators,Group Meditation,Satsang
ATTACH;FMTTYPE=image/png:https://thomknoles.com/wp-content/uploads/2023/02/46.png
END:VEVENT
END:VCALENDAR